BEGIN:VCALENDAR
VERSION:2.0
PRODID:-//Church at Ross Bridge - ECPv6.11.0.1//NONSGML v1.0//EN
CALSCALE:GREGORIAN
METHOD:PUBLISH
X-ORIGINAL-URL:https://rossbridge.church
X-WR-CALDESC:Events for Church at Ross Bridge
REFRESH-INTERVAL;VALUE=DURATION:PT1H
X-Robots-Tag:noindex
X-PUBLISHED-TTL:PT1H
BEGIN:VTIMEZONE
TZID:America/Chicago
BEGIN:DAYLIGHT
TZOFFSETFROM:-0600
TZOFFSETTO:-0500
TZNAME:CDT
DTSTART:20250309T080000
END:DAYLIGHT
BEGIN:STANDARD
TZOFFSETFROM:-0500
TZOFFSETTO:-0600
TZNAME:CST
DTSTART:20251102T070000
END:STANDARD
END:VTIMEZONE
BEGIN:VEVENT
DTSTART;TZID=America/Chicago:20250907T081500
DTEND;TZID=America/Chicago:20250907T091500
DTSTAMP:20260419T132918
CREATED:20250430T202149Z
LAST-MODIFIED:20250505T210312Z
UID:10000082-1757232900-1757236500@rossbridge.church
SUMMARY:Worship Service
DESCRIPTION:Group: Our Church\nCampus: The Church at Ross Bridge
URL:https://rossbridge.church/event/worship-service-55/
LOCATION:The Church at Ross Bridge\, 1999 Hoover Ct\, Birmingham\, AL\, United States
GEO:33.401866;-86.80606
X-APPLE-STRUCTURED-LOCATION;VALUE=URI;X-ADDRESS=The Church at Ross Bridge 1999 Hoover Ct Birmingham AL United States;X-APPLE-RADIUS=500;X-TITLE=1999 Hoover Ct:geo:-86.80606,33.401866
END:VEVENT
BEGIN:VEVENT
DTSTART;TZID=America/Chicago:20250907T081500
DTEND;TZID=America/Chicago:20250907T114500
DTSTAMP:20260419T132918
CREATED:20250430T202150Z
LAST-MODIFIED:20250505T210313Z
UID:10000084-1757232900-1757245500@rossbridge.church
SUMMARY:Nursery
DESCRIPTION:Group: Bridge Kids\nCampus: The Church at Ross Bridge
URL:https://rossbridge.church/event/nursery-19/
LOCATION:The Church at Ross Bridge\, 1999 Hoover Ct\, Birmingham\, AL\, United States
GEO:33.401866;-86.80606
X-APPLE-STRUCTURED-LOCATION;VALUE=URI;X-ADDRESS=The Church at Ross Bridge 1999 Hoover Ct Birmingham AL United States;X-APPLE-RADIUS=500;X-TITLE=1999 Hoover Ct:geo:-86.80606,33.401866
END:VEVENT
BEGIN:VEVENT
DTSTART;TZID=America/Chicago:20250907T093000
DTEND;TZID=America/Chicago:20250907T103000
DTSTAMP:20260419T132918
CREATED:20250430T202150Z
LAST-MODIFIED:20250505T210313Z
UID:10000083-1757237400-1757241000@rossbridge.church
SUMMARY:Worship Service
DESCRIPTION:Group: Our Church\nCampus: The Church at Ross Bridge
URL:https://rossbridge.church/event/worship-service-56/
LOCATION:The Church at Ross Bridge\, 1999 Hoover Ct\, Birmingham\, AL\, United States
GEO:33.401866;-86.80606
X-APPLE-STRUCTURED-LOCATION;VALUE=URI;X-ADDRESS=The Church at Ross Bridge 1999 Hoover Ct Birmingham AL United States;X-APPLE-RADIUS=500;X-TITLE=1999 Hoover Ct:geo:-86.80606,33.401866
END:VEVENT
BEGIN:VEVENT
DTSTART;TZID=America/Chicago:20250907T104500
DTEND;TZID=America/Chicago:20250907T114500
DTSTAMP:20260419T132918
CREATED:20250430T202150Z
LAST-MODIFIED:20250505T210313Z
UID:10000085-1757241900-1757245500@rossbridge.church
SUMMARY:Worship Service
DESCRIPTION:Group: Our Church\nCampus: The Church at Ross Bridge
URL:https://rossbridge.church/event/worship-service-57/
LOCATION:The Church at Ross Bridge\, 1999 Hoover Ct\, Birmingham\, AL\, United States
GEO:33.401866;-86.80606
X-APPLE-STRUCTURED-LOCATION;VALUE=URI;X-ADDRESS=The Church at Ross Bridge 1999 Hoover Ct Birmingham AL United States;X-APPLE-RADIUS=500;X-TITLE=1999 Hoover Ct:geo:-86.80606,33.401866
END:VEVENT
BEGIN:VEVENT
DTSTART;TZID=America/Chicago:20250914T081500
DTEND;TZID=America/Chicago:20250914T091500
DTSTAMP:20260419T132918
CREATED:20250430T202150Z
LAST-MODIFIED:20250505T210313Z
UID:10000087-1757837700-1757841300@rossbridge.church
SUMMARY:Worship Service
DESCRIPTION:Group: Our Church\nCampus: The Church at Ross Bridge
URL:https://rossbridge.church/event/worship-service-58/
LOCATION:The Church at Ross Bridge\, 1999 Hoover Ct\, Birmingham\, AL\, United States
GEO:33.401866;-86.80606
X-APPLE-STRUCTURED-LOCATION;VALUE=URI;X-ADDRESS=The Church at Ross Bridge 1999 Hoover Ct Birmingham AL United States;X-APPLE-RADIUS=500;X-TITLE=1999 Hoover Ct:geo:-86.80606,33.401866
END:VEVENT
BEGIN:VEVENT
DTSTART;TZID=America/Chicago:20250914T081500
DTEND;TZID=America/Chicago:20250914T114500
DTSTAMP:20260419T132918
CREATED:20250430T202150Z
LAST-MODIFIED:20250505T210314Z
UID:10000086-1757837700-1757850300@rossbridge.church
SUMMARY:Nursery
DESCRIPTION:Group: Bridge Kids\nCampus: The Church at Ross Bridge
URL:https://rossbridge.church/event/nursery-20/
LOCATION:The Church at Ross Bridge\, 1999 Hoover Ct\, Birmingham\, AL\, United States
GEO:33.401866;-86.80606
X-APPLE-STRUCTURED-LOCATION;VALUE=URI;X-ADDRESS=The Church at Ross Bridge 1999 Hoover Ct Birmingham AL United States;X-APPLE-RADIUS=500;X-TITLE=1999 Hoover Ct:geo:-86.80606,33.401866
END:VEVENT
BEGIN:VEVENT
DTSTART;TZID=America/Chicago:20250914T093000
DTEND;TZID=America/Chicago:20250914T103000
DTSTAMP:20260419T132918
CREATED:20250430T202151Z
LAST-MODIFIED:20250505T210314Z
UID:10000088-1757842200-1757845800@rossbridge.church
SUMMARY:Worship Service
DESCRIPTION:Group: Our Church\nCampus: The Church at Ross Bridge
URL:https://rossbridge.church/event/worship-service-59/
LOCATION:The Church at Ross Bridge\, 1999 Hoover Ct\, Birmingham\, AL\, United States
GEO:33.401866;-86.80606
X-APPLE-STRUCTURED-LOCATION;VALUE=URI;X-ADDRESS=The Church at Ross Bridge 1999 Hoover Ct Birmingham AL United States;X-APPLE-RADIUS=500;X-TITLE=1999 Hoover Ct:geo:-86.80606,33.401866
END:VEVENT
BEGIN:VEVENT
DTSTART;TZID=America/Chicago:20250914T104500
DTEND;TZID=America/Chicago:20250914T114500
DTSTAMP:20260419T132918
CREATED:20250430T202151Z
LAST-MODIFIED:20250505T210314Z
UID:10000089-1757846700-1757850300@rossbridge.church
SUMMARY:Worship Service
DESCRIPTION:Group: Our Church\nCampus: The Church at Ross Bridge
URL:https://rossbridge.church/event/worship-service-60/
LOCATION:The Church at Ross Bridge\, 1999 Hoover Ct\, Birmingham\, AL\, United States
GEO:33.401866;-86.80606
X-APPLE-STRUCTURED-LOCATION;VALUE=URI;X-ADDRESS=The Church at Ross Bridge 1999 Hoover Ct Birmingham AL United States;X-APPLE-RADIUS=500;X-TITLE=1999 Hoover Ct:geo:-86.80606,33.401866
END:VEVENT
BEGIN:VEVENT
DTSTART;TZID=America/Chicago:20250921T081500
DTEND;TZID=America/Chicago:20250921T091500
DTSTAMP:20260419T132918
CREATED:20250430T202151Z
LAST-MODIFIED:20250505T210314Z
UID:10000091-1758442500-1758446100@rossbridge.church
SUMMARY:Worship Service
DESCRIPTION:Group: Our Church\nCampus: The Church at Ross Bridge
URL:https://rossbridge.church/event/worship-service-61/
LOCATION:The Church at Ross Bridge\, 1999 Hoover Ct\, Birmingham\, AL\, United States
GEO:33.401866;-86.80606
X-APPLE-STRUCTURED-LOCATION;VALUE=URI;X-ADDRESS=The Church at Ross Bridge 1999 Hoover Ct Birmingham AL United States;X-APPLE-RADIUS=500;X-TITLE=1999 Hoover Ct:geo:-86.80606,33.401866
END:VEVENT
BEGIN:VEVENT
DTSTART;TZID=America/Chicago:20250921T081500
DTEND;TZID=America/Chicago:20250921T114500
DTSTAMP:20260419T132918
CREATED:20250430T202151Z
LAST-MODIFIED:20250505T210314Z
UID:10000090-1758442500-1758455100@rossbridge.church
SUMMARY:Nursery
DESCRIPTION:Group: Bridge Kids\nCampus: The Church at Ross Bridge
URL:https://rossbridge.church/event/nursery-21/
LOCATION:The Church at Ross Bridge\, 1999 Hoover Ct\, Birmingham\, AL\, United States
GEO:33.401866;-86.80606
X-APPLE-STRUCTURED-LOCATION;VALUE=URI;X-ADDRESS=The Church at Ross Bridge 1999 Hoover Ct Birmingham AL United States;X-APPLE-RADIUS=500;X-TITLE=1999 Hoover Ct:geo:-86.80606,33.401866
END:VEVENT
BEGIN:VEVENT
DTSTART;TZID=America/Chicago:20250921T093000
DTEND;TZID=America/Chicago:20250921T103000
DTSTAMP:20260419T132918
CREATED:20250430T202151Z
LAST-MODIFIED:20250505T210314Z
UID:10000092-1758447000-1758450600@rossbridge.church
SUMMARY:Worship Service
DESCRIPTION:Group: Our Church\nCampus: The Church at Ross Bridge
URL:https://rossbridge.church/event/worship-service-62/
LOCATION:The Church at Ross Bridge\, 1999 Hoover Ct\, Birmingham\, AL\, United States
GEO:33.401866;-86.80606
X-APPLE-STRUCTURED-LOCATION;VALUE=URI;X-ADDRESS=The Church at Ross Bridge 1999 Hoover Ct Birmingham AL United States;X-APPLE-RADIUS=500;X-TITLE=1999 Hoover Ct:geo:-86.80606,33.401866
END:VEVENT
BEGIN:VEVENT
DTSTART;TZID=America/Chicago:20250921T104500
DTEND;TZID=America/Chicago:20250921T114500
DTSTAMP:20260419T132918
CREATED:20250430T202152Z
LAST-MODIFIED:20250505T210317Z
UID:10000093-1758451500-1758455100@rossbridge.church
SUMMARY:Worship Service
DESCRIPTION:Group: Our Church\nCampus: The Church at Ross Bridge
URL:https://rossbridge.church/event/worship-service-63/
LOCATION:The Church at Ross Bridge\, 1999 Hoover Ct\, Birmingham\, AL\, United States
GEO:33.401866;-86.80606
X-APPLE-STRUCTURED-LOCATION;VALUE=URI;X-ADDRESS=The Church at Ross Bridge 1999 Hoover Ct Birmingham AL United States;X-APPLE-RADIUS=500;X-TITLE=1999 Hoover Ct:geo:-86.80606,33.401866
END:VEVENT
BEGIN:VEVENT
DTSTART;TZID=America/Chicago:20250928T081500
DTEND;TZID=America/Chicago:20250928T091500
DTSTAMP:20260419T132918
CREATED:20250430T202152Z
LAST-MODIFIED:20250505T210317Z
UID:10000095-1759047300-1759050900@rossbridge.church
SUMMARY:Worship Service
DESCRIPTION:Group: Our Church\nCampus: The Church at Ross Bridge
URL:https://rossbridge.church/event/worship-service-64/
LOCATION:The Church at Ross Bridge\, 1999 Hoover Ct\, Birmingham\, AL\, United States
GEO:33.401866;-86.80606
X-APPLE-STRUCTURED-LOCATION;VALUE=URI;X-ADDRESS=The Church at Ross Bridge 1999 Hoover Ct Birmingham AL United States;X-APPLE-RADIUS=500;X-TITLE=1999 Hoover Ct:geo:-86.80606,33.401866
END:VEVENT
BEGIN:VEVENT
DTSTART;TZID=America/Chicago:20250928T081500
DTEND;TZID=America/Chicago:20250928T114500
DTSTAMP:20260419T132918
CREATED:20250430T202152Z
LAST-MODIFIED:20250505T210317Z
UID:10000094-1759047300-1759059900@rossbridge.church
SUMMARY:Nursery
DESCRIPTION:Group: Bridge Kids\nCampus: The Church at Ross Bridge
URL:https://rossbridge.church/event/nursery-22/
LOCATION:The Church at Ross Bridge\, 1999 Hoover Ct\, Birmingham\, AL\, United States
GEO:33.401866;-86.80606
X-APPLE-STRUCTURED-LOCATION;VALUE=URI;X-ADDRESS=The Church at Ross Bridge 1999 Hoover Ct Birmingham AL United States;X-APPLE-RADIUS=500;X-TITLE=1999 Hoover Ct:geo:-86.80606,33.401866
END:VEVENT
BEGIN:VEVENT
DTSTART;TZID=America/Chicago:20250928T093000
DTEND;TZID=America/Chicago:20250928T103000
DTSTAMP:20260419T132918
CREATED:20250430T202152Z
LAST-MODIFIED:20250505T210317Z
UID:10000096-1759051800-1759055400@rossbridge.church
SUMMARY:Worship Service
DESCRIPTION:Group: Our Church\nCampus: The Church at Ross Bridge
URL:https://rossbridge.church/event/worship-service-65/
LOCATION:The Church at Ross Bridge\, 1999 Hoover Ct\, Birmingham\, AL\, United States
GEO:33.401866;-86.80606
X-APPLE-STRUCTURED-LOCATION;VALUE=URI;X-ADDRESS=The Church at Ross Bridge 1999 Hoover Ct Birmingham AL United States;X-APPLE-RADIUS=500;X-TITLE=1999 Hoover Ct:geo:-86.80606,33.401866
END:VEVENT
BEGIN:VEVENT
DTSTART;TZID=America/Chicago:20250928T104500
DTEND;TZID=America/Chicago:20250928T114500
DTSTAMP:20260419T132918
CREATED:20250430T202153Z
LAST-MODIFIED:20250505T210317Z
UID:10000097-1759056300-1759059900@rossbridge.church
SUMMARY:Worship Service
DESCRIPTION:Group: Our Church\nCampus: The Church at Ross Bridge
URL:https://rossbridge.church/event/worship-service-66/
LOCATION:The Church at Ross Bridge\, 1999 Hoover Ct\, Birmingham\, AL\, United States
GEO:33.401866;-86.80606
X-APPLE-STRUCTURED-LOCATION;VALUE=URI;X-ADDRESS=The Church at Ross Bridge 1999 Hoover Ct Birmingham AL United States;X-APPLE-RADIUS=500;X-TITLE=1999 Hoover Ct:geo:-86.80606,33.401866
END:VEVENT
END:VCALENDAR