BEGIN:VCALENDAR
VERSION:2.0
PRODID:-//Church at Ross Bridge - ECPv6.11.0.1//NONSGML v1.0//EN
CALSCALE:GREGORIAN
METHOD:PUBLISH
X-ORIGINAL-URL:https://rossbridge.church
X-WR-CALDESC:Events for Church at Ross Bridge
REFRESH-INTERVAL;VALUE=DURATION:PT1H
X-Robots-Tag:noindex
X-PUBLISHED-TTL:PT1H
BEGIN:VTIMEZONE
TZID:America/Chicago
BEGIN:DAYLIGHT
TZOFFSETFROM:-0600
TZOFFSETTO:-0500
TZNAME:CDT
DTSTART:20250309T080000
END:DAYLIGHT
BEGIN:STANDARD
TZOFFSETFROM:-0500
TZOFFSETTO:-0600
TZNAME:CST
DTSTART:20251102T070000
END:STANDARD
END:VTIMEZONE
BEGIN:VEVENT
DTSTART;TZID=America/Chicago:20250629T081500
DTEND;TZID=America/Chicago:20250629T091500
DTSTAMP:20260419T181734
CREATED:20250430T202140Z
LAST-MODIFIED:20250505T210305Z
UID:10000040-1751184900-1751188500@rossbridge.church
SUMMARY:Worship Service
DESCRIPTION:Group: Our Church\nCampus: The Church at Ross Bridge
URL:https://rossbridge.church/event/worship-service-25/
LOCATION:The Church at Ross Bridge\, 1999 Hoover Ct\, Birmingham\, AL\, United States
GEO:33.401866;-86.80606
X-APPLE-STRUCTURED-LOCATION;VALUE=URI;X-ADDRESS=The Church at Ross Bridge 1999 Hoover Ct Birmingham AL United States;X-APPLE-RADIUS=500;X-TITLE=1999 Hoover Ct:geo:-86.80606,33.401866
END:VEVENT
BEGIN:VEVENT
DTSTART;TZID=America/Chicago:20250629T081500
DTEND;TZID=America/Chicago:20250629T114500
DTSTAMP:20260419T181734
CREATED:20250430T202141Z
LAST-MODIFIED:20250505T210305Z
UID:10000043-1751184900-1751197500@rossbridge.church
SUMMARY:Nursery
DESCRIPTION:Group: Bridge Kids\nCampus: The Church at Ross Bridge
URL:https://rossbridge.church/event/nursery-9/
LOCATION:The Church at Ross Bridge\, 1999 Hoover Ct\, Birmingham\, AL\, United States
GEO:33.401866;-86.80606
X-APPLE-STRUCTURED-LOCATION;VALUE=URI;X-ADDRESS=The Church at Ross Bridge 1999 Hoover Ct Birmingham AL United States;X-APPLE-RADIUS=500;X-TITLE=1999 Hoover Ct:geo:-86.80606,33.401866
END:VEVENT
BEGIN:VEVENT
DTSTART;TZID=America/Chicago:20250629T093000
DTEND;TZID=America/Chicago:20250629T103000
DTSTAMP:20260419T181734
CREATED:20250430T202141Z
LAST-MODIFIED:20250505T210304Z
UID:10000041-1751189400-1751193000@rossbridge.church
SUMMARY:Worship Service
DESCRIPTION:Group: Our Church\nCampus: The Church at Ross Bridge
URL:https://rossbridge.church/event/worship-service-26/
LOCATION:The Church at Ross Bridge\, 1999 Hoover Ct\, Birmingham\, AL\, United States
GEO:33.401866;-86.80606
X-APPLE-STRUCTURED-LOCATION;VALUE=URI;X-ADDRESS=The Church at Ross Bridge 1999 Hoover Ct Birmingham AL United States;X-APPLE-RADIUS=500;X-TITLE=1999 Hoover Ct:geo:-86.80606,33.401866
END:VEVENT
BEGIN:VEVENT
DTSTART;TZID=America/Chicago:20250629T104500
DTEND;TZID=America/Chicago:20250629T114500
DTSTAMP:20260419T181734
CREATED:20250430T202141Z
LAST-MODIFIED:20250505T210305Z
UID:10000042-1751193900-1751197500@rossbridge.church
SUMMARY:Worship Service
DESCRIPTION:Group: Our Church\nCampus: The Church at Ross Bridge
URL:https://rossbridge.church/event/worship-service-27/
LOCATION:The Church at Ross Bridge\, 1999 Hoover Ct\, Birmingham\, AL\, United States
GEO:33.401866;-86.80606
X-APPLE-STRUCTURED-LOCATION;VALUE=URI;X-ADDRESS=The Church at Ross Bridge 1999 Hoover Ct Birmingham AL United States;X-APPLE-RADIUS=500;X-TITLE=1999 Hoover Ct:geo:-86.80606,33.401866
END:VEVENT
END:VCALENDAR