BEGIN:VCALENDAR
VERSION:2.0
PRODID:-//Church at Ross Bridge - ECPv6.11.0.1//NONSGML v1.0//EN
CALSCALE:GREGORIAN
METHOD:PUBLISH
X-ORIGINAL-URL:https://rossbridge.church
X-WR-CALDESC:Events for Church at Ross Bridge
REFRESH-INTERVAL;VALUE=DURATION:PT1H
X-Robots-Tag:noindex
X-PUBLISHED-TTL:PT1H
BEGIN:VTIMEZONE
TZID:America/Chicago
BEGIN:DAYLIGHT
TZOFFSETFROM:-0600
TZOFFSETTO:-0500
TZNAME:CDT
DTSTART:20250309T080000
END:DAYLIGHT
BEGIN:STANDARD
TZOFFSETFROM:-0500
TZOFFSETTO:-0600
TZNAME:CST
DTSTART:20251102T070000
END:STANDARD
END:VTIMEZONE
BEGIN:VEVENT
DTSTART;TZID=America/Chicago:20250518T081500
DTEND;TZID=America/Chicago:20250518T091500
DTSTAMP:20260419T213329
CREATED:20250430T202136Z
LAST-MODIFIED:20250505T210257Z
UID:10000016-1747556100-1747559700@rossbridge.church
SUMMARY:Worship Service
DESCRIPTION:Group: Our Church\nCampus: The Church at Ross Bridge
URL:https://rossbridge.church/event/worship-service-7/
LOCATION:The Church at Ross Bridge\, 1999 Hoover Ct\, Birmingham\, AL\, United States
GEO:33.401866;-86.80606
X-APPLE-STRUCTURED-LOCATION;VALUE=URI;X-ADDRESS=The Church at Ross Bridge 1999 Hoover Ct Birmingham AL United States;X-APPLE-RADIUS=500;X-TITLE=1999 Hoover Ct:geo:-86.80606,33.401866
END:VEVENT
BEGIN:VEVENT
DTSTART;TZID=America/Chicago:20250518T081500
DTEND;TZID=America/Chicago:20250518T114500
DTSTAMP:20260419T213329
CREATED:20250430T202136Z
LAST-MODIFIED:20250505T210257Z
UID:10000015-1747556100-1747568700@rossbridge.church
SUMMARY:Nursery
DESCRIPTION:Group: Bridge Kids\nCampus: The Church at Ross Bridge
URL:https://rossbridge.church/event/nursery-3/
LOCATION:The Church at Ross Bridge\, 1999 Hoover Ct\, Birmingham\, AL\, United States
GEO:33.401866;-86.80606
X-APPLE-STRUCTURED-LOCATION;VALUE=URI;X-ADDRESS=The Church at Ross Bridge 1999 Hoover Ct Birmingham AL United States;X-APPLE-RADIUS=500;X-TITLE=1999 Hoover Ct:geo:-86.80606,33.401866
END:VEVENT
BEGIN:VEVENT
DTSTART;TZID=America/Chicago:20250518T093000
DTEND;TZID=America/Chicago:20250518T103000
DTSTAMP:20260419T213329
CREATED:20250430T202136Z
LAST-MODIFIED:20250505T210257Z
UID:10000017-1747560600-1747564200@rossbridge.church
SUMMARY:Worship Service
DESCRIPTION:Group: Our Church\nCampus: The Church at Ross Bridge
URL:https://rossbridge.church/event/worship-service-8/
LOCATION:The Church at Ross Bridge\, 1999 Hoover Ct\, Birmingham\, AL\, United States
GEO:33.401866;-86.80606
X-APPLE-STRUCTURED-LOCATION;VALUE=URI;X-ADDRESS=The Church at Ross Bridge 1999 Hoover Ct Birmingham AL United States;X-APPLE-RADIUS=500;X-TITLE=1999 Hoover Ct:geo:-86.80606,33.401866
END:VEVENT
BEGIN:VEVENT
DTSTART;TZID=America/Chicago:20250518T104500
DTEND;TZID=America/Chicago:20250518T114500
DTSTAMP:20260419T213329
CREATED:20250430T202136Z
LAST-MODIFIED:20250505T210258Z
UID:10000018-1747565100-1747568700@rossbridge.church
SUMMARY:Worship Service
DESCRIPTION:Group: Our Church\nCampus: The Church at Ross Bridge
URL:https://rossbridge.church/event/worship-service-9/
LOCATION:The Church at Ross Bridge\, 1999 Hoover Ct\, Birmingham\, AL\, United States
GEO:33.401866;-86.80606
X-APPLE-STRUCTURED-LOCATION;VALUE=URI;X-ADDRESS=The Church at Ross Bridge 1999 Hoover Ct Birmingham AL United States;X-APPLE-RADIUS=500;X-TITLE=1999 Hoover Ct:geo:-86.80606,33.401866
END:VEVENT
END:VCALENDAR